{"text_format":"1","workbook":"xlsx","n_sheets":5,"sheets":["Portada","Matriz Riesgo","Mapa","Consolidado","Cálculo"],"not_rendered":{"charts":0,"images":1,"macros":1,"external_links":0,"defined_names":0,"comments":0,"pivot_tables":0},"unopened":[],"bounds":{"document_bytes":16777216,"sheet_cells":100000,"rows_first":2000,"rows_last":500,"rows_between":2000,"halvings":0,"cell_chars":16384,"cell_head_chars":4096},"cells_cut":0,"cells_raw":0,"read":"whole","date_system":"1900"}

{"sheet":"Portada","index":0,"n_rows":14,"n_cols":3,"rows_kept":14,"cut":false,"hidden":false,"merged":[[13,2,31,18]]}
[]
[]
[]
[]
[]
[]
[]
[]
[]
[]
[]
[]
[]
[null,null,"MATRIZ DE RIESGO (JERARQUIZACIÓN)\nREPÚBLICA DOMINICANA"]

{"sheet":"Matriz Riesgo","index":1,"n_rows":122,"n_cols":6,"rows_kept":122,"cut":false,"hidden":false,"merged":[]}
[]
[null,"Nro.","Causa","Probabilidad","Impacto ","Asignación"]
[null,1]
[null,2]
[null,3]
[null,4]
[null,5]
[null,6]
[null,7]
[null,8]
[null,9]
[null,10]
[null,11]
[null,12]
[null,13]
[null,14]
[null,15]
[null,16]
[null,17]
[null,18]
[null,19]
[null,20]
[null,21]
[null,22]
[null,23]
[null,24]
[null,25]
[null,26]
[null,27]
[null,28]
[null,29]
[null,30]
[null,31]
[null,32]
[null,33]
[null,34]
[null,35]
[null,36]
[null,37]
[null,38]
[null,39]
[null,40]
[null,41]
[null,42]
[null,43]
[null,44]
[null,45]
[null,46]
[null,47]
[null,48]
[null,49]
[null,50]
[null,51]
[null,52]
[null,53]
[null,54]
[null,55]
[null,56]
[null,57]
[null,58]
[null,59]
[null,60]
[null,61]
[null,62]
[null,63]
[null,64]
[null,65]
[null,66]
[null,67]
[null,68]
[null,69]
[null,70]
[null,71]
[null,72]
[null,73]
[null,74]
[null,75]
[null,76]
[null,77]
[null,78]
[null,79]
[null,80]
[null,81]
[null,82]
[null,83]
[null,84]
[null,85]
[null,86]
[null,87]
[null,88]
[null,89]
[null,90]
[null,91]
[null,92]
[null,93]
[null,94]
[null,95]
[null,96]
[null,97]
[null,98]
[null,99]
[null,100]
[null,101]
[null,102]
[null,103]
[null,104]
[null,105]
[null,106]
[null,107]
[null,108]
[null,109]
[null,110]
[null,111]
[null,112]
[null,113]
[null,114]
[null,115]
[null,116]
[null,117]
[null,118]
[null,119]
[null,120]

{"sheet":"Mapa","index":2,"n_rows":8,"n_cols":13,"rows_kept":8,"cut":false,"hidden":false,"merged":[]}
[]
[null,null,null,null,null,null,null,null,null,null,"Bajo","Medio","Alto"]
[null,null,"Muy Alto",0,0,0,0,0]
[null,null,"Alto",0,0,0,0,0]
[null,null,"Moderado",0,0,0,0,0]
[null,null,"Bajo",0,0,0,0,0]
[null,null,"Muy Bajo",0,0,0,0,0]
[null,null,null,"Despreciable","Mínimo","Moderado","Severo","Crítico"]

{"sheet":"Consolidado","index":3,"n_rows":30,"n_cols":7,"rows_kept":30,"cut":false,"hidden":true,"merged":[]}
[]
[null,"N°","Categoría del riesgo","Etapa","Causas estándares","Descripción","Mitigación"]
[null,1,null,"Pre-financiación",{"$f":"'Matriz Riesgo'!C3","v":0},"Posibilidad de demoras en la obtención de los permisos necesarios (Concesión de generación, EIA/DIA, CERA, ANA-EAH-Lic. Uso,etc)","Análisis de la situación de permisos y licencias en el ante-proyecto"]
[null,2,null,"Pre-financiación",{"$f":"'Matriz Riesgo'!C4","v":0},"Sobre estimación de la Energía Generable y/o subdimensionamiento de pérdidas","Adecuado Estudio Hidrológico"]
[null,3,null,"Pre-financiación",{"$f":"'Matriz Riesgo'!C5","v":0},"Incerteza en los costos y tiempos necesarios para la obtención de las servidumbres de paso de las líneas de transmisión","Análisis de la situación de servidumbres (identificación de interesados, acuerdos previos)"]
[null,4,null,"Ejecución",{"$f":"'Matriz Riesgo'!C6","v":0},"Hallazgo de discontinuidades en la perforación del tunel.","Adecuado Estudio Geológico previo a la etapa de construcción del túnel. Reserva de contingencia prevista en la financiación del proyecto"]
[null,5,null,"Ejecución",{"$f":"'Matriz Riesgo'!C7","v":0},"Posibilidad de demoras en la obtención del permiso del ANA, posterior al EAH pero previo al inicio de obras","Previsión dentro de los plazos de ante-proyecto y costos de pre-inversión"]
[null,6,null,"Ejecución",{"$f":"'Matriz Riesgo'!C8","v":0},"Incertidumbre con respecto al tipo de roca que se encuentre durante la excavación de túneles de conducción a presión.","Adecuado Estudio Geológico previo a la etapa de construcción del túnel. Reserva de contingencia prevista en la financiación del proyecto"]
[null,7,null,"Ejecución",{"$f":"'Matriz Riesgo'!C9","v":0},"Riego hidrogeológico (filtraciones de acuiferos), necesidad de recubrimiento y/o refuerzos a la obra de conducción.","Adecuado Estudio Geológico previo a la etapa de construcción del túnel. Reserva de contingencia prevista en la financiación del proyecto"]
[null,8,null,"Ejecución",{"$f":"'Matriz Riesgo'!C10","v":0},"Conflictos sociales con las comunidades locales referidas a la generación de empleo local.","Adecuado Estudio Social y Ambiental e implementación de acciones allí establecidas"]
[null,9,"Financiero","Operación",{"$f":"'Matriz Riesgo'!C11","v":0},"Variaciones en las energías anuales efectivamente generadas pueden generar problemas financieros por bajos ingresos","Contratos de largo plazo con energía comprometida y precio definido por contrato"]
[null,10,"Mercado Eléctrico Mayorista","Operación",{"$f":"'Matriz Riesgo'!C12","v":0},"Riesgo regulatorio de aplicación de precios máximos al mercado SPOT (determincación del precio marginal).","Contratos de largo plazo con energía comprometida y precio definido por contrato"]
[null,11,"Mercado Eléctrico Mayorista","Operación",{"$f":"'Matriz Riesgo'!C13","v":0},"Riesgo de bajos precios a causa de la determinación de precios locales del Gas Natural, inferiores a los parámetros internacionales","Contratos de largo plazo con energía comprometida y precio definido por contrato"]
[null,12,null,null,{"$f":"'Matriz Riesgo'!C14","v":0},"Dependiendo de la modalidad de financiamiento es màs o menos complicado conseguir sponsor para el desarrollo de los proyectos"]
[null,13,null,null,{"$f":"'Matriz Riesgo'!C15","v":0},"Todo proyecto hidroelèctrico requiere disponer de una cierta cantidad de derechos de agua para poder utilizar las aguas de los rìos"]
[null,14,null,null,{"$f":"'Matriz Riesgo'!C16","v":0},"Todo proyecto hidroeléctrico debe contar con la respectiva aprobación ambiental. En ella se debe dar solución a los problemas de emisiones, manejo de cuenca, impactos viales y todos aquellos que considere al ejecución del proyecto"]
[null,15,null,null,{"$f":"'Matriz Riesgo'!C17","v":0},"Con el objetivo de promover las inversiones de largo plazo, se contempla la devolución anticipada del IGV; si bien este mecanismo promueve el fomento a la inversión, en la práctica no existen facilidades para su aplicación"]
[null,16,null,null,{"$f":"'Matriz Riesgo'!C18","v":0},"Los ingresos del proyecto se hacen efectivos desde el minuto en el que el cliente requiere la energía. Si el proyecto entra en operación en cualquier otra fecha recibirà un precio distinto al pactado por contrato, asumiendo ítegramente el riesgo"]
[null,17,null,null,{"$f":"'Matriz Riesgo'!C19","v":0},"Normalmente los procesos de negociación de las servidumbres son complejos e involucran demoras adicionales, lo que se traduce en sobretiempos en la operación de los proyectos"]
[null,18,null,null,{"$f":"'Matriz Riesgo'!C20","v":0},"Cualquier error en el diseño de la planta generadora implicará sobrecostos y aumento de los plazos constructivos del proyecto"]
[null,19,null,null,{"$f":"'Matriz Riesgo'!C21","v":0},"Cualquier razón que implique sobretiempo en la etapa construcitva podrá implicar costos adicionales por concepto de eventuales multas cursadas "]
[null,20,null,null,{"$f":"'Matriz Riesgo'!C22","v":0},"Siempre está latente la posibilidad de que la empresa constructora incumpla con el contrato firmado y abandone la obra, sin que ella quede terminada. En dicho caso el riesgo lo asume la empresa eléctrica"]
[null,21,null,null,{"$f":"'Matriz Riesgo'!C23","v":0},"El cálculo de los niveles de rentabilidad de un proyecto se basa tanto en la estimación de sus ingresos como de sus costos. Cualquier variación de costos afectará la rentabilidad final del proyecto"]
[null,22,null,null,{"$f":"'Matriz Riesgo'!C24","v":0},"Los contratos de concesión no tienen el carácter de contrato-ley y por lo tanto están afectas al riesgo derivado de cambios en la normativa legal al momento de la firma de los contratos"]
[null,23,null,null,{"$f":"'Matriz Riesgo'!C25","v":0},"Las grandes inversiones que involucran los proyectos de generación, normalmente se negocian con préstamos a tasa variable. Por lo tanto cualquier variación de las tasas internacionales, impactará en el costo final del proyecto"]
[null,24,null,null,{"$f":"'Matriz Riesgo'!C26","v":0},"La producción de una central hidroeléctrica se basa en las estimaciones de hidrología. Cualquier variación de ella, alterará la capacidad productiva efectiva de la central"]
[null,25,null,null,{"$f":"'Matriz Riesgo'!C27","v":0},"Al existir congestión en la transmisión, una central no puede despachar, por saturación de la capacidad de la línea, su producción"]
[null,26,null,null,{"$f":"'Matriz Riesgo'!C28","v":0},"Siempre existe una posibilidad de ocurrencia de fallas tanto en los equipos como en los procedimientos de producción de una central"]
[null,27,null,null,{"$f":"'Matriz Riesgo'!C29","v":0},"Todo proyecto de generación se basa en una estimación de la demanda futura de energía. Si dicha demanda se altera, también lo harán los niveles de producción de las centrales que forman parte del sistema"]
[null,28,"Causas de implementación",null,{"$f":"'Matriz Riesgo'!C30","v":0},"Dificultad en la entrega del área de contrato en concordancia con un programa previamente definido"]

{"sheet":"Cálculo","index":4,"n_rows":122,"n_cols":13,"rows_kept":122,"cut":false,"hidden":true,"merged":[]}
[]
[null,"Causa","Probabilidad ","Impacto","P","I","Región","Causas",null,"Probabilidad","Impacto","Región","Clasificación"]
[null,1,{"$f":"IF('Matriz Riesgo'!D3=\"\",\"\",'Matriz Riesgo'!D3)","v":""},{"$f":"IF('Matriz Riesgo'!E3=\"\",\"\",'Matriz Riesgo'!E3)","v":""},{"$f":"IF(C3=\"Muy Alto\",5,IF(C3=\"Alto\",4,IF(C3=\"Moderado\",3,IF(C3=\"Bajo\",2,IF(C3=\"Muy Bajo\",1,\"\")))))","v":""},{"$f":"IF(D3=\"Crítico\",5,IF(D3=\"Severo\",4,IF(D3=\"Moderado\",3,IF(D3=\"Mínimo\",2,IF(D3=\"Despreciable\",1,\"\")))))","v":""},{"$f":"IF(E3=1,VLOOKUP(F3,$K$3:$L$7,2,),IF(E3=2,VLOOKUP(F3,$K$8:$L$12,2,FALSE),IF(E3=3,VLOOKUP(F3,$K$13:$L$17,2,FALSE),IF(E3=4,VLOOKUP(F3,$K$18:$L$22,2,FALSE),IF(E3=5,VLOOKUP(F3,$K$23:$L$27,2,FALSE),\"\")))))","v":""},{"$f":"IF('Matriz Riesgo'!C3=\"\",\"\",'Matriz Riesgo'!C3)","v":""},{"$f":"\"\"","v":""},1,1,1,"Bajo"]
[null,2,{"$f":"IF('Matriz Riesgo'!D4=\"\",\"\",'Matriz Riesgo'!D4)","v":""},{"$f":"IF('Matriz Riesgo'!E4=\"\",\"\",'Matriz Riesgo'!E4)","v":""},{"$f":"IF(C4=\"Muy Alto\",5,IF(C4=\"Alto\",4,IF(C4=\"Moderado\",3,IF(C4=\"Bajo\",2,IF(C4=\"Muy Bajo\",1,\"\")))))","v":""},{"$f":"IF(D4=\"Crítico\",5,IF(D4=\"Severo\",4,IF(D4=\"Moderado\",3,IF(D4=\"Mínimo\",2,IF(D4=\"Despreciable\",1,\"\")))))","v":""},{"$f":"IF(E4=1,VLOOKUP(F4,$K$3:$L$7,2,),IF(E4=2,VLOOKUP(F4,$K$8:$L$12,2,FALSE),IF(E4=3,VLOOKUP(F4,$K$13:$L$17,2,FALSE),IF(E4=4,VLOOKUP(F4,$K$18:$L$22,2,FALSE),IF(E4=5,VLOOKUP(F4,$K$23:$L$27,2,FALSE),\"\")))))","v":""},{"$f":"IF('Matriz Riesgo'!C4=\"\",\"\",'Matriz Riesgo'!C4)","v":""},{"$f":"\"\"","v":""},1,2,{"$f":"+L3+1","v":2},"Bajo"]
[null,3,{"$f":"IF('Matriz Riesgo'!D5=\"\",\"\",'Matriz Riesgo'!D5)","v":""},{"$f":"IF('Matriz Riesgo'!E5=\"\",\"\",'Matriz Riesgo'!E5)","v":""},{"$f":"IF(C5=\"Muy Alto\",5,IF(C5=\"Alto\",4,IF(C5=\"Moderado\",3,IF(C5=\"Bajo\",2,IF(C5=\"Muy Bajo\",1,\"\")))))","v":""},{"$f":"IF(D5=\"Crítico\",5,IF(D5=\"Severo\",4,IF(D5=\"Moderado\",3,IF(D5=\"Mínimo\",2,IF(D5=\"Despreciable\",1,\"\")))))","v":""},"",{"$f":"IF('Matriz Riesgo'!C5=\"\",\"\",'Matriz Riesgo'!C5)","v":""},{"$f":"\"\"","v":""},1,3,3,"Bajo"]
[null,4,{"$f":"IF('Matriz Riesgo'!D6=\"\",\"\",'Matriz Riesgo'!D6)","v":""},{"$f":"IF('Matriz Riesgo'!E6=\"\",\"\",'Matriz Riesgo'!E6)","v":""},"","","",{"$f":"IF('Matriz Riesgo'!C6=\"\",\"\",'Matriz Riesgo'!C6)","v":""},{"$f":"\"\"","v":""},1,4,4,"Medio"]
[null,5,{"$f":"IF('Matriz Riesgo'!D7=\"\",\"\",'Matriz Riesgo'!D7)","v":""},{"$f":"IF('Matriz Riesgo'!E7=\"\",\"\",'Matriz Riesgo'!E7)","v":""},"","","",{"$f":"IF('Matriz Riesgo'!C7=\"\",\"\",'Matriz Riesgo'!C7)","v":""},{"$f":"\"\"","v":""},1,5,5,"Medio"]
[null,6,{"$f":"IF('Matriz Riesgo'!D8=\"\",\"\",'Matriz Riesgo'!D8)","v":""},{"$f":"IF('Matriz Riesgo'!E8=\"\",\"\",'Matriz Riesgo'!E8)","v":""},"","","",{"$f":"IF('Matriz Riesgo'!C8=\"\",\"\",'Matriz Riesgo'!C8)","v":""},{"$f":"\"\"","v":""},2,1,6,"Bajo"]
[null,7,{"$f":"IF('Matriz Riesgo'!D9=\"\",\"\",'Matriz Riesgo'!D9)","v":""},{"$f":"IF('Matriz Riesgo'!E9=\"\",\"\",'Matriz Riesgo'!E9)","v":""},"","","",{"$f":"IF('Matriz Riesgo'!C9=\"\",\"\",'Matriz Riesgo'!C9)","v":""},{"$f":"\"\"","v":""},2,2,7,"Bajo"]
[null,8,{"$f":"IF('Matriz Riesgo'!D10=\"\",\"\",'Matriz Riesgo'!D10)","v":""},{"$f":"IF('Matriz Riesgo'!E10=\"\",\"\",'Matriz Riesgo'!E10)","v":""},"","","",{"$f":"IF('Matriz Riesgo'!C10=\"\",\"\",'Matriz Riesgo'!C10)","v":""},{"$f":"\"\"","v":""},2,3,8,"Medio"]
[null,9,{"$f":"IF('Matriz Riesgo'!D11=\"\",\"\",'Matriz Riesgo'!D11)","v":""},{"$f":"IF('Matriz Riesgo'!E11=\"\",\"\",'Matriz Riesgo'!E11)","v":""},"","",{"$f":"IF(E11=1,VLOOKUP(F11,$K$3:$L$7,2,),IF(E11=2,VLOOKUP(F11,$K$8:$L$12,2,FALSE),IF(E11=3,VLOOKUP(F11,$K$13:$L$17,2,FALSE),IF(E11=4,VLOOKUP(F11,$K$18:$L$22,2,FALSE),IF(E11=5,VLOOKUP(F11,$K$23:$L$27,2,FALSE),\"\")))))","v":""},{"$f":"IF('Matriz Riesgo'!C11=\"\",\"\",'Matriz Riesgo'!C11)","v":""},{"$f":"\"\"","v":""},2,4,9,"Medio"]
[null,10,{"$f":"IF('Matriz Riesgo'!D12=\"\",\"\",'Matriz Riesgo'!D12)","v":""},{"$f":"IF('Matriz Riesgo'!E12=\"\",\"\",'Matriz Riesgo'!E12)","v":""},"","","",{"$f":"IF('Matriz Riesgo'!C12=\"\",\"\",'Matriz Riesgo'!C12)","v":""},{"$f":"\"\"","v":""},2,5,10,"Alto"]
[null,11,{"$f":"IF('Matriz Riesgo'!D13=\"\",\"\",'Matriz Riesgo'!D13)","v":""},{"$f":"IF('Matriz Riesgo'!E13=\"\",\"\",'Matriz Riesgo'!E13)","v":""},"","","",{"$f":"IF('Matriz Riesgo'!C13=\"\",\"\",'Matriz Riesgo'!C13)","v":""},{"$f":"\"\"","v":""},3,1,11,"Bajo"]
[null,12,{"$f":"IF('Matriz Riesgo'!D14=\"\",\"\",'Matriz Riesgo'!D14)","v":""},{"$f":"IF('Matriz Riesgo'!E14=\"\",\"\",'Matriz Riesgo'!E14)","v":""},"","","",{"$f":"IF('Matriz Riesgo'!C14=\"\",\"\",'Matriz Riesgo'!C14)","v":""},{"$f":"\"\"","v":""},3,2,{"$f":"+L13+1","v":12},"Medio"]
[null,13,{"$f":"IF('Matriz Riesgo'!D15=\"\",\"\",'Matriz Riesgo'!D15)","v":""},{"$f":"IF('Matriz Riesgo'!E15=\"\",\"\",'Matriz Riesgo'!E15)","v":""},"","","",{"$f":"IF('Matriz Riesgo'!C15=\"\",\"\",'Matriz Riesgo'!C15)","v":""},{"$f":"\"\"","v":""},3,3,{"$f":"+L14+1","v":13},"Medio"]
[null,14,{"$f":"IF('Matriz Riesgo'!D16=\"\",\"\",'Matriz Riesgo'!D16)","v":""},{"$f":"IF('Matriz Riesgo'!E16=\"\",\"\",'Matriz Riesgo'!E16)","v":""},"","","",{"$f":"IF('Matriz Riesgo'!C16=\"\",\"\",'Matriz Riesgo'!C16)","v":""},{"$f":"\"\"","v":""},3,4,{"$f":"+L15+1","v":14},"Medio"]
[null,15,{"$f":"IF('Matriz Riesgo'!D17=\"\",\"\",'Matriz Riesgo'!D17)","v":""},{"$f":"IF('Matriz Riesgo'!E17=\"\",\"\",'Matriz Riesgo'!E17)","v":""},"","","",{"$f":"IF('Matriz Riesgo'!C17=\"\",\"\",'Matriz Riesgo'!C17)","v":""},{"$f":"\"\"","v":""},3,5,{"$f":"+L16+1","v":15},"Alto"]
[null,16,{"$f":"IF('Matriz Riesgo'!D18=\"\",\"\",'Matriz Riesgo'!D18)","v":""},{"$f":"IF('Matriz Riesgo'!E18=\"\",\"\",'Matriz Riesgo'!E18)","v":""},"","","",{"$f":"IF('Matriz Riesgo'!C18=\"\",\"\",'Matriz Riesgo'!C18)","v":""},{"$f":"\"\"","v":""},4,1,16,"Medio"]
[null,17,{"$f":"IF('Matriz Riesgo'!D19=\"\",\"\",'Matriz Riesgo'!D19)","v":""},{"$f":"IF('Matriz Riesgo'!E19=\"\",\"\",'Matriz Riesgo'!E19)","v":""},"","","",{"$f":"IF('Matriz Riesgo'!C19=\"\",\"\",'Matriz Riesgo'!C19)","v":""},{"$f":"\"\"","v":""},4,2,{"$f":"+L18+1","v":17},"Medio"]
[null,18,{"$f":"IF('Matriz Riesgo'!D20=\"\",\"\",'Matriz Riesgo'!D20)","v":""},{"$f":"IF('Matriz Riesgo'!E20=\"\",\"\",'Matriz Riesgo'!E20)","v":""},"","","",{"$f":"IF('Matriz Riesgo'!C20=\"\",\"\",'Matriz Riesgo'!C20)","v":""},{"$f":"\"\"","v":""},4,3,18,"Medio"]
[null,19,{"$f":"IF('Matriz Riesgo'!D21=\"\",\"\",'Matriz Riesgo'!D21)","v":""},{"$f":"IF('Matriz Riesgo'!E21=\"\",\"\",'Matriz Riesgo'!E21)","v":""},"","","",{"$f":"IF('Matriz Riesgo'!C21=\"\",\"\",'Matriz Riesgo'!C21)","v":""},{"$f":"\"\"","v":""},4,4,19,"Alto"]
[null,20,{"$f":"IF('Matriz Riesgo'!D22=\"\",\"\",'Matriz Riesgo'!D22)","v":""},{"$f":"IF('Matriz Riesgo'!E22=\"\",\"\",'Matriz Riesgo'!E22)","v":""},"","","",{"$f":"IF('Matriz Riesgo'!C22=\"\",\"\",'Matriz Riesgo'!C22)","v":""},{"$f":"\"\"","v":""},4,5,20,"Alto"]
[null,21,{"$f":"IF('Matriz Riesgo'!D23=\"\",\"\",'Matriz Riesgo'!D23)","v":""},{"$f":"IF('Matriz Riesgo'!E23=\"\",\"\",'Matriz Riesgo'!E23)","v":""},"","","",{"$f":"IF('Matriz Riesgo'!C23=\"\",\"\",'Matriz Riesgo'!C23)","v":""},{"$f":"\"\"","v":""},5,1,21,"Medio"]
[null,22,{"$f":"IF('Matriz Riesgo'!D24=\"\",\"\",'Matriz Riesgo'!D24)","v":""},{"$f":"IF('Matriz Riesgo'!E24=\"\",\"\",'Matriz Riesgo'!E24)","v":""},"","","",{"$f":"IF('Matriz Riesgo'!C24=\"\",\"\",'Matriz Riesgo'!C24)","v":""},{"$f":"\"\"","v":""},5,2,22,"Alto"]
[null,23,{"$f":"IF('Matriz Riesgo'!D25=\"\",\"\",'Matriz Riesgo'!D25)","v":""},{"$f":"IF('Matriz Riesgo'!E25=\"\",\"\",'Matriz Riesgo'!E25)","v":""},"","","",{"$f":"IF('Matriz Riesgo'!C25=\"\",\"\",'Matriz Riesgo'!C25)","v":""},{"$f":"\"\"","v":""},5,3,23,"Alto"]
[null,24,{"$f":"IF('Matriz Riesgo'!D26=\"\",\"\",'Matriz Riesgo'!D26)","v":""},{"$f":"IF('Matriz Riesgo'!E26=\"\",\"\",'Matriz Riesgo'!E26)","v":""},"","","",{"$f":"IF('Matriz Riesgo'!C26=\"\",\"\",'Matriz Riesgo'!C26)","v":""},{"$f":"\"\"","v":""},5,4,24,"Alto"]
[null,25,{"$f":"IF('Matriz Riesgo'!D27=\"\",\"\",'Matriz Riesgo'!D27)","v":""},{"$f":"IF('Matriz Riesgo'!E27=\"\",\"\",'Matriz Riesgo'!E27)","v":""},"","","",{"$f":"IF('Matriz Riesgo'!C27=\"\",\"\",'Matriz Riesgo'!C27)","v":""},{"$f":"\"\"","v":""},5,5,25,"Alto"]
[null,26,{"$f":"IF('Matriz Riesgo'!D28=\"\",\"\",'Matriz Riesgo'!D28)","v":""},{"$f":"IF('Matriz Riesgo'!E28=\"\",\"\",'Matriz Riesgo'!E28)","v":""},"","","",{"$f":"IF('Matriz Riesgo'!C28=\"\",\"\",'Matriz Riesgo'!C28)","v":""},{"$f":"\"\"","v":""}]
[null,27,{"$f":"IF('Matriz Riesgo'!D29=\"\",\"\",'Matriz Riesgo'!D29)","v":""},{"$f":"IF('Matriz Riesgo'!E29=\"\",\"\",'Matriz Riesgo'!E29)","v":""},"","","",{"$f":"IF('Matriz Riesgo'!C29=\"\",\"\",'Matriz Riesgo'!C29)","v":""},{"$f":"\"\"","v":""}]
[null,28,{"$f":"IF('Matriz Riesgo'!D30=\"\",\"\",'Matriz Riesgo'!D30)","v":""},{"$f":"IF('Matriz Riesgo'!E30=\"\",\"\",'Matriz Riesgo'!E30)","v":""},"","","",{"$f":"IF('Matriz Riesgo'!C30=\"\",\"\",'Matriz Riesgo'!C30)","v":""},{"$f":"\"\"","v":""}]
[null,29,{"$f":"IF('Matriz Riesgo'!D31=\"\",\"\",'Matriz Riesgo'!D31)","v":""},{"$f":"IF('Matriz Riesgo'!E31=\"\",\"\",'Matriz Riesgo'!E31)","v":""},"","","",{"$f":"IF('Matriz Riesgo'!C31=\"\",\"\",'Matriz Riesgo'!C31)","v":""},{"$f":"\"\"","v":""}]
[null,30,{"$f":"IF('Matriz Riesgo'!D32=\"\",\"\",'Matriz Riesgo'!D32)","v":""},{"$f":"IF('Matriz Riesgo'!E32=\"\",\"\",'Matriz Riesgo'!E32)","v":""},"","","",{"$f":"IF('Matriz Riesgo'!C32=\"\",\"\",'Matriz Riesgo'!C32)","v":""},{"$f":"\"\"","v":""}]
[null,31,{"$f":"IF('Matriz Riesgo'!D33=\"\",\"\",'Matriz Riesgo'!D33)","v":""},{"$f":"IF('Matriz Riesgo'!E33=\"\",\"\",'Matriz Riesgo'!E33)","v":""},"","",{"$f":"IF(E33=1,VLOOKUP(F33,$K$3:$L$7,2,),IF(E33=2,VLOOKUP(F33,$K$8:$L$12,2,FALSE),IF(E33=3,VLOOKUP(F33,$K$13:$L$17,2,FALSE),IF(E33=4,VLOOKUP(F33,$K$18:$L$22,2,FALSE),IF(E33=5,VLOOKUP(F33,$K$23:$L$27,2,FALSE),\"\")))))","v":""},{"$f":"IF('Matriz Riesgo'!C33=\"\",\"\",'Matriz Riesgo'!C33)","v":""},{"$f":"\"\"","v":""}]
[null,32,{"$f":"IF('Matriz Riesgo'!D34=\"\",\"\",'Matriz Riesgo'!D34)","v":""},{"$f":"IF('Matriz Riesgo'!E34=\"\",\"\",'Matriz Riesgo'!E34)","v":""},"","","",{"$f":"IF('Matriz Riesgo'!C34=\"\",\"\",'Matriz Riesgo'!C34)","v":""}]
[null,33,{"$f":"IF('Matriz Riesgo'!D35=\"\",\"\",'Matriz Riesgo'!D35)","v":""},{"$f":"IF('Matriz Riesgo'!E35=\"\",\"\",'Matriz Riesgo'!E35)","v":""},"","","",{"$f":"IF('Matriz Riesgo'!C35=\"\",\"\",'Matriz Riesgo'!C35)","v":""}]
[null,34,{"$f":"IF('Matriz Riesgo'!D36=\"\",\"\",'Matriz Riesgo'!D36)","v":""},{"$f":"IF('Matriz Riesgo'!E36=\"\",\"\",'Matriz Riesgo'!E36)","v":""},"","",{"$f":"IF(E36=1,VLOOKUP(F36,$K$3:$L$7,2,),IF(E36=2,VLOOKUP(F36,$K$8:$L$12,2,FALSE),IF(E36=3,VLOOKUP(F36,$K$13:$L$17,2,FALSE),IF(E36=4,VLOOKUP(F36,$K$18:$L$22,2,FALSE),IF(E36=5,VLOOKUP(F36,$K$23:$L$27,2,FALSE),\"\")))))","v":""},{"$f":"IF('Matriz Riesgo'!C36=\"\",\"\",'Matriz Riesgo'!C36)","v":""}]
[null,35,{"$f":"IF('Matriz Riesgo'!D37=\"\",\"\",'Matriz Riesgo'!D37)","v":""},{"$f":"IF('Matriz Riesgo'!E37=\"\",\"\",'Matriz Riesgo'!E37)","v":""},"","","",{"$f":"IF('Matriz Riesgo'!C37=\"\",\"\",'Matriz Riesgo'!C37)","v":""}]
[null,36,{"$f":"IF('Matriz Riesgo'!D38=\"\",\"\",'Matriz Riesgo'!D38)","v":""},{"$f":"IF('Matriz Riesgo'!E38=\"\",\"\",'Matriz Riesgo'!E38)","v":""},"","","",{"$f":"IF('Matriz Riesgo'!C38=\"\",\"\",'Matriz Riesgo'!C38)","v":""}]
[null,37,{"$f":"IF('Matriz Riesgo'!D39=\"\",\"\",'Matriz Riesgo'!D39)","v":""},{"$f":"IF('Matriz Riesgo'!E39=\"\",\"\",'Matriz Riesgo'!E39)","v":""},"","","",{"$f":"IF('Matriz Riesgo'!C39=\"\",\"\",'Matriz Riesgo'!C39)","v":""}]
[null,38,{"$f":"IF('Matriz Riesgo'!D40=\"\",\"\",'Matriz Riesgo'!D40)","v":""},{"$f":"IF('Matriz Riesgo'!E40=\"\",\"\",'Matriz Riesgo'!E40)","v":""},"","","",{"$f":"IF('Matriz Riesgo'!C40=\"\",\"\",'Matriz Riesgo'!C40)","v":""}]
[null,39,{"$f":"IF('Matriz Riesgo'!D41=\"\",\"\",'Matriz Riesgo'!D41)","v":""},{"$f":"IF('Matriz Riesgo'!E41=\"\",\"\",'Matriz Riesgo'!E41)","v":""},"","","",{"$f":"IF('Matriz Riesgo'!C41=\"\",\"\",'Matriz Riesgo'!C41)","v":""}]
[null,40,{"$f":"IF('Matriz Riesgo'!D42=\"\",\"\",'Matriz Riesgo'!D42)","v":""},{"$f":"IF('Matriz Riesgo'!E42=\"\",\"\",'Matriz Riesgo'!E42)","v":""},"","","",{"$f":"IF('Matriz Riesgo'!C42=\"\",\"\",'Matriz Riesgo'!C42)","v":""}]
[null,41,{"$f":"IF('Matriz Riesgo'!D43=\"\",\"\",'Matriz Riesgo'!D43)","v":""},{"$f":"IF('Matriz Riesgo'!E43=\"\",\"\",'Matriz Riesgo'!E43)","v":""},"","","",{"$f":"IF('Matriz Riesgo'!C43=\"\",\"\",'Matriz Riesgo'!C43)","v":""}]
[null,42,{"$f":"IF('Matriz Riesgo'!D44=\"\",\"\",'Matriz Riesgo'!D44)","v":""},{"$f":"IF('Matriz Riesgo'!E44=\"\",\"\",'Matriz Riesgo'!E44)","v":""},"","","",{"$f":"IF('Matriz Riesgo'!C44=\"\",\"\",'Matriz Riesgo'!C44)","v":""}]
[null,43,{"$f":"IF('Matriz Riesgo'!D45=\"\",\"\",'Matriz Riesgo'!D45)","v":""},{"$f":"IF('Matriz Riesgo'!E45=\"\",\"\",'Matriz Riesgo'!E45)","v":""},"","","",{"$f":"IF('Matriz Riesgo'!C45=\"\",\"\",'Matriz Riesgo'!C45)","v":""}]
[null,44,{"$f":"IF('Matriz Riesgo'!D46=\"\",\"\",'Matriz Riesgo'!D46)","v":""},{"$f":"IF('Matriz Riesgo'!E46=\"\",\"\",'Matriz Riesgo'!E46)","v":""},"","","",{"$f":"IF('Matriz Riesgo'!C46=\"\",\"\",'Matriz Riesgo'!C46)","v":""}]
[null,45,{"$f":"IF('Matriz Riesgo'!D47=\"\",\"\",'Matriz Riesgo'!D47)","v":""},{"$f":"IF('Matriz Riesgo'!E47=\"\",\"\",'Matriz Riesgo'!E47)","v":""},"","","",{"$f":"IF('Matriz Riesgo'!C47=\"\",\"\",'Matriz Riesgo'!C47)","v":""}]
[null,46,{"$f":"IF('Matriz Riesgo'!D48=\"\",\"\",'Matriz Riesgo'!D48)","v":""},{"$f":"IF('Matriz Riesgo'!E48=\"\",\"\",'Matriz Riesgo'!E48)","v":""},"","","",{"$f":"IF('Matriz Riesgo'!C48=\"\",\"\",'Matriz Riesgo'!C48)","v":""}]
[null,47,{"$f":"IF('Matriz Riesgo'!D49=\"\",\"\",'Matriz Riesgo'!D49)","v":""},{"$f":"IF('Matriz Riesgo'!E49=\"\",\"\",'Matriz Riesgo'!E49)","v":""},"","","",{"$f":"IF('Matriz Riesgo'!C49=\"\",\"\",'Matriz Riesgo'!C49)","v":""}]
[null,48,{"$f":"IF('Matriz Riesgo'!D50=\"\",\"\",'Matriz Riesgo'!D50)","v":""},{"$f":"IF('Matriz Riesgo'!E50=\"\",\"\",'Matriz Riesgo'!E50)","v":""},"","","",{"$f":"IF('Matriz Riesgo'!C50=\"\",\"\",'Matriz Riesgo'!C50)","v":""}]
[null,49,{"$f":"IF('Matriz Riesgo'!D51=\"\",\"\",'Matriz Riesgo'!D51)","v":""},{"$f":"IF('Matriz Riesgo'!E51=\"\",\"\",'Matriz Riesgo'!E51)","v":""},"","","",{"$f":"IF('Matriz Riesgo'!C51=\"\",\"\",'Matriz Riesgo'!C51)","v":""}]
[null,50,{"$f":"IF('Matriz Riesgo'!D52=\"\",\"\",'Matriz Riesgo'!D52)","v":""},{"$f":"IF('Matriz Riesgo'!E52=\"\",\"\",'Matriz Riesgo'!E52)","v":""},"","","",{"$f":"IF('Matriz Riesgo'!C52=\"\",\"\",'Matriz Riesgo'!C52)","v":""}]
[null,51,{"$f":"IF('Matriz Riesgo'!D53=\"\",\"\",'Matriz Riesgo'!D53)","v":""},{"$f":"IF('Matriz Riesgo'!E53=\"\",\"\",'Matriz Riesgo'!E53)","v":""},"","","",{"$f":"IF('Matriz Riesgo'!C53=\"\",\"\",'Matriz Riesgo'!C53)","v":""}]
[null,52,{"$f":"IF('Matriz Riesgo'!D54=\"\",\"\",'Matriz Riesgo'!D54)","v":""},{"$f":"IF('Matriz Riesgo'!E54=\"\",\"\",'Matriz Riesgo'!E54)","v":""},"","","",{"$f":"IF('Matriz Riesgo'!C54=\"\",\"\",'Matriz Riesgo'!C54)","v":""}]
[null,53,{"$f":"IF('Matriz Riesgo'!D55=\"\",\"\",'Matriz Riesgo'!D55)","v":""},{"$f":"IF('Matriz Riesgo'!E55=\"\",\"\",'Matriz Riesgo'!E55)","v":""},"","","",{"$f":"IF('Matriz Riesgo'!C55=\"\",\"\",'Matriz Riesgo'!C55)","v":""}]
[null,54,{"$f":"IF('Matriz Riesgo'!D56=\"\",\"\",'Matriz Riesgo'!D56)","v":""},{"$f":"IF('Matriz Riesgo'!E56=\"\",\"\",'Matriz Riesgo'!E56)","v":""},"","","",{"$f":"IF('Matriz Riesgo'!C56=\"\",\"\",'Matriz Riesgo'!C56)","v":""}]
[null,55,{"$f":"IF('Matriz Riesgo'!D57=\"\",\"\",'Matriz Riesgo'!D57)","v":""},{"$f":"IF('Matriz Riesgo'!E57=\"\",\"\",'Matriz Riesgo'!E57)","v":""},"","","",{"$f":"IF('Matriz Riesgo'!C57=\"\",\"\",'Matriz Riesgo'!C57)","v":""}]
[null,56,{"$f":"IF('Matriz Riesgo'!D58=\"\",\"\",'Matriz Riesgo'!D58)","v":""},{"$f":"IF('Matriz Riesgo'!E58=\"\",\"\",'Matriz Riesgo'!E58)","v":""},"","","",{"$f":"IF('Matriz Riesgo'!C58=\"\",\"\",'Matriz Riesgo'!C58)","v":""}]
[null,57,{"$f":"IF('Matriz Riesgo'!D59=\"\",\"\",'Matriz Riesgo'!D59)","v":""},{"$f":"IF('Matriz Riesgo'!E59=\"\",\"\",'Matriz Riesgo'!E59)","v":""},"","","",{"$f":"IF('Matriz Riesgo'!C59=\"\",\"\",'Matriz Riesgo'!C59)","v":""}]
[null,58,{"$f":"IF('Matriz Riesgo'!D60=\"\",\"\",'Matriz Riesgo'!D60)","v":""},{"$f":"IF('Matriz Riesgo'!E60=\"\",\"\",'Matriz Riesgo'!E60)","v":""},"","","",{"$f":"IF('Matriz Riesgo'!C60=\"\",\"\",'Matriz Riesgo'!C60)","v":""}]
[null,59,{"$f":"IF('Matriz Riesgo'!D61=\"\",\"\",'Matriz Riesgo'!D61)","v":""},{"$f":"IF('Matriz Riesgo'!E61=\"\",\"\",'Matriz Riesgo'!E61)","v":""},"","","",{"$f":"IF('Matriz Riesgo'!C61=\"\",\"\",'Matriz Riesgo'!C61)","v":""}]
[null,60,{"$f":"IF('Matriz Riesgo'!D62=\"\",\"\",'Matriz Riesgo'!D62)","v":""},{"$f":"IF('Matriz Riesgo'!E62=\"\",\"\",'Matriz Riesgo'!E62)","v":""},"","","",{"$f":"IF('Matriz Riesgo'!C62=\"\",\"\",'Matriz Riesgo'!C62)","v":""}]
[null,61,{"$f":"IF('Matriz Riesgo'!D63=\"\",\"\",'Matriz Riesgo'!D63)","v":""},{"$f":"IF('Matriz Riesgo'!E63=\"\",\"\",'Matriz Riesgo'!E63)","v":""},"","","",{"$f":"IF('Matriz Riesgo'!C63=\"\",\"\",'Matriz Riesgo'!C63)","v":""}]
[null,62,{"$f":"IF('Matriz Riesgo'!D64=\"\",\"\",'Matriz Riesgo'!D64)","v":""},{"$f":"IF('Matriz Riesgo'!E64=\"\",\"\",'Matriz Riesgo'!E64)","v":""},"","","",{"$f":"IF('Matriz Riesgo'!C64=\"\",\"\",'Matriz Riesgo'!C64)","v":""}]
[null,63,{"$f":"IF('Matriz Riesgo'!D65=\"\",\"\",'Matriz Riesgo'!D65)","v":""},{"$f":"IF('Matriz Riesgo'!E65=\"\",\"\",'Matriz Riesgo'!E65)","v":""},"","","",{"$f":"IF('Matriz Riesgo'!C65=\"\",\"\",'Matriz Riesgo'!C65)","v":""}]
[null,64,{"$f":"IF('Matriz Riesgo'!D66=\"\",\"\",'Matriz Riesgo'!D66)","v":""},{"$f":"IF('Matriz Riesgo'!E66=\"\",\"\",'Matriz Riesgo'!E66)","v":""},"","","",{"$f":"IF('Matriz Riesgo'!C66=\"\",\"\",'Matriz Riesgo'!C66)","v":""}]
[null,65,{"$f":"IF('Matriz Riesgo'!D67=\"\",\"\",'Matriz Riesgo'!D67)","v":""},{"$f":"IF('Matriz Riesgo'!E67=\"\",\"\",'Matriz Riesgo'!E67)","v":""},"","","",{"$f":"IF('Matriz Riesgo'!C67=\"\",\"\",'Matriz Riesgo'!C67)","v":""}]
[null,66,{"$f":"IF('Matriz Riesgo'!D68=\"\",\"\",'Matriz Riesgo'!D68)","v":""},{"$f":"IF('Matriz Riesgo'!E68=\"\",\"\",'Matriz Riesgo'!E68)","v":""},"","","",{"$f":"IF('Matriz Riesgo'!C68=\"\",\"\",'Matriz Riesgo'!C68)","v":""}]
[null,67,{"$f":"IF('Matriz Riesgo'!D69=\"\",\"\",'Matriz Riesgo'!D69)","v":""},{"$f":"IF('Matriz Riesgo'!E69=\"\",\"\",'Matriz Riesgo'!E69)","v":""},{"$f":"IF(C69=\"Muy Alto\",5,IF(C69=\"Alto\",4,IF(C69=\"Moderado\",3,IF(C69=\"Bajo\",2,IF(C69=\"Muy Bajo\",1,\"\")))))","v":""},{"$f":"IF(D69=\"Crítico\",5,IF(D69=\"Severo\",4,IF(D69=\"Moderado\",3,IF(D69=\"Mínimo\",2,IF(D69=\"Despreciable\",1,\"\")))))","v":""},"",{"$f":"IF('Matriz Riesgo'!C69=\"\",\"\",'Matriz Riesgo'!C69)","v":""}]
[null,68,{"$f":"IF('Matriz Riesgo'!D70=\"\",\"\",'Matriz Riesgo'!D70)","v":""},{"$f":"IF('Matriz Riesgo'!E70=\"\",\"\",'Matriz Riesgo'!E70)","v":""},"","","",{"$f":"IF('Matriz Riesgo'!C70=\"\",\"\",'Matriz Riesgo'!C70)","v":""}]
[null,69,{"$f":"IF('Matriz Riesgo'!D71=\"\",\"\",'Matriz Riesgo'!D71)","v":""},{"$f":"IF('Matriz Riesgo'!E71=\"\",\"\",'Matriz Riesgo'!E71)","v":""},"","","",{"$f":"IF('Matriz Riesgo'!C71=\"\",\"\",'Matriz Riesgo'!C71)","v":""}]
[null,70,{"$f":"IF('Matriz Riesgo'!D72=\"\",\"\",'Matriz Riesgo'!D72)","v":""},{"$f":"IF('Matriz Riesgo'!E72=\"\",\"\",'Matriz Riesgo'!E72)","v":""},"","","",{"$f":"IF('Matriz Riesgo'!C72=\"\",\"\",'Matriz Riesgo'!C72)","v":""}]
[null,71,{"$f":"IF('Matriz Riesgo'!D73=\"\",\"\",'Matriz Riesgo'!D73)","v":""},{"$f":"IF('Matriz Riesgo'!E73=\"\",\"\",'Matriz Riesgo'!E73)","v":""},"","","",{"$f":"IF('Matriz Riesgo'!C73=\"\",\"\",'Matriz Riesgo'!C73)","v":""}]
[null,72,{"$f":"IF('Matriz Riesgo'!D74=\"\",\"\",'Matriz Riesgo'!D74)","v":""},{"$f":"IF('Matriz Riesgo'!E74=\"\",\"\",'Matriz Riesgo'!E74)","v":""},"","","",{"$f":"IF('Matriz Riesgo'!C74=\"\",\"\",'Matriz Riesgo'!C74)","v":""}]
[null,73,{"$f":"IF('Matriz Riesgo'!D75=\"\",\"\",'Matriz Riesgo'!D75)","v":""},{"$f":"IF('Matriz Riesgo'!E75=\"\",\"\",'Matriz Riesgo'!E75)","v":""},"","","",{"$f":"IF('Matriz Riesgo'!C75=\"\",\"\",'Matriz Riesgo'!C75)","v":""}]
[null,74,{"$f":"IF('Matriz Riesgo'!D76=\"\",\"\",'Matriz Riesgo'!D76)","v":""},{"$f":"IF('Matriz Riesgo'!E76=\"\",\"\",'Matriz Riesgo'!E76)","v":""},"","","",{"$f":"IF('Matriz Riesgo'!C76=\"\",\"\",'Matriz Riesgo'!C76)","v":""}]
[null,75,{"$f":"IF('Matriz Riesgo'!D77=\"\",\"\",'Matriz Riesgo'!D77)","v":""},{"$f":"IF('Matriz Riesgo'!E77=\"\",\"\",'Matriz Riesgo'!E77)","v":""},"","","",{"$f":"IF('Matriz Riesgo'!C77=\"\",\"\",'Matriz Riesgo'!C77)","v":""}]
[null,76,{"$f":"IF('Matriz Riesgo'!D78=\"\",\"\",'Matriz Riesgo'!D78)","v":""},{"$f":"IF('Matriz Riesgo'!E78=\"\",\"\",'Matriz Riesgo'!E78)","v":""},"","","",{"$f":"IF('Matriz Riesgo'!C78=\"\",\"\",'Matriz Riesgo'!C78)","v":""}]
[null,77,{"$f":"IF('Matriz Riesgo'!D79=\"\",\"\",'Matriz Riesgo'!D79)","v":""},{"$f":"IF('Matriz Riesgo'!E79=\"\",\"\",'Matriz Riesgo'!E79)","v":""},"","","",{"$f":"IF('Matriz Riesgo'!C79=\"\",\"\",'Matriz Riesgo'!C79)","v":""}]
[null,78,{"$f":"IF('Matriz Riesgo'!D80=\"\",\"\",'Matriz Riesgo'!D80)","v":""},{"$f":"IF('Matriz Riesgo'!E80=\"\",\"\",'Matriz Riesgo'!E80)","v":""},"","","",{"$f":"IF('Matriz Riesgo'!C80=\"\",\"\",'Matriz Riesgo'!C80)","v":""}]
[null,79,{"$f":"IF('Matriz Riesgo'!D81=\"\",\"\",'Matriz Riesgo'!D81)","v":""},{"$f":"IF('Matriz Riesgo'!E81=\"\",\"\",'Matriz Riesgo'!E81)","v":""},"","","",{"$f":"IF('Matriz Riesgo'!C81=\"\",\"\",'Matriz Riesgo'!C81)","v":""}]
[null,80,{"$f":"IF('Matriz Riesgo'!D82=\"\",\"\",'Matriz Riesgo'!D82)","v":""},{"$f":"IF('Matriz Riesgo'!E82=\"\",\"\",'Matriz Riesgo'!E82)","v":""},"","","",{"$f":"IF('Matriz Riesgo'!C82=\"\",\"\",'Matriz Riesgo'!C82)","v":""}]
[null,81,{"$f":"IF('Matriz Riesgo'!D83=\"\",\"\",'Matriz Riesgo'!D83)","v":""},{"$f":"IF('Matriz Riesgo'!E83=\"\",\"\",'Matriz Riesgo'!E83)","v":""},"","","",{"$f":"IF('Matriz Riesgo'!C83=\"\",\"\",'Matriz Riesgo'!C83)","v":""}]
[null,82,{"$f":"IF('Matriz Riesgo'!D84=\"\",\"\",'Matriz Riesgo'!D84)","v":""},{"$f":"IF('Matriz Riesgo'!E84=\"\",\"\",'Matriz Riesgo'!E84)","v":""},"","","",{"$f":"IF('Matriz Riesgo'!C84=\"\",\"\",'Matriz Riesgo'!C84)","v":""}]
[null,83,{"$f":"IF('Matriz Riesgo'!D85=\"\",\"\",'Matriz Riesgo'!D85)","v":""},{"$f":"IF('Matriz Riesgo'!E85=\"\",\"\",'Matriz Riesgo'!E85)","v":""},"","","",{"$f":"IF('Matriz Riesgo'!C85=\"\",\"\",'Matriz Riesgo'!C85)","v":""}]
[null,84,{"$f":"IF('Matriz Riesgo'!D86=\"\",\"\",'Matriz Riesgo'!D86)","v":""},{"$f":"IF('Matriz Riesgo'!E86=\"\",\"\",'Matriz Riesgo'!E86)","v":""},"","","",{"$f":"IF('Matriz Riesgo'!C86=\"\",\"\",'Matriz Riesgo'!C86)","v":""}]
[null,85,{"$f":"IF('Matriz Riesgo'!D87=\"\",\"\",'Matriz Riesgo'!D87)","v":""},{"$f":"IF('Matriz Riesgo'!E87=\"\",\"\",'Matriz Riesgo'!E87)","v":""},"","","",{"$f":"IF('Matriz Riesgo'!C87=\"\",\"\",'Matriz Riesgo'!C87)","v":""}]
[null,86,{"$f":"IF('Matriz Riesgo'!D88=\"\",\"\",'Matriz Riesgo'!D88)","v":""},{"$f":"IF('Matriz Riesgo'!E88=\"\",\"\",'Matriz Riesgo'!E88)","v":""},"","","",{"$f":"IF('Matriz Riesgo'!C88=\"\",\"\",'Matriz Riesgo'!C88)","v":""}]
[null,87,{"$f":"IF('Matriz Riesgo'!D89=\"\",\"\",'Matriz Riesgo'!D89)","v":""},{"$f":"IF('Matriz Riesgo'!E89=\"\",\"\",'Matriz Riesgo'!E89)","v":""},"","","",{"$f":"IF('Matriz Riesgo'!C89=\"\",\"\",'Matriz Riesgo'!C89)","v":""}]
[null,88,{"$f":"IF('Matriz Riesgo'!D90=\"\",\"\",'Matriz Riesgo'!D90)","v":""},{"$f":"IF('Matriz Riesgo'!E90=\"\",\"\",'Matriz Riesgo'!E90)","v":""},"","","",{"$f":"IF('Matriz Riesgo'!C90=\"\",\"\",'Matriz Riesgo'!C90)","v":""}]
[null,89,{"$f":"IF('Matriz Riesgo'!D91=\"\",\"\",'Matriz Riesgo'!D91)","v":""},{"$f":"IF('Matriz Riesgo'!E91=\"\",\"\",'Matriz Riesgo'!E91)","v":""},"","","",{"$f":"IF('Matriz Riesgo'!C91=\"\",\"\",'Matriz Riesgo'!C91)","v":""}]
[null,90,{"$f":"IF('Matriz Riesgo'!D92=\"\",\"\",'Matriz Riesgo'!D92)","v":""},{"$f":"IF('Matriz Riesgo'!E92=\"\",\"\",'Matriz Riesgo'!E92)","v":""},"","","",{"$f":"IF('Matriz Riesgo'!C92=\"\",\"\",'Matriz Riesgo'!C92)","v":""}]
[null,91,{"$f":"IF('Matriz Riesgo'!D93=\"\",\"\",'Matriz Riesgo'!D93)","v":""},{"$f":"IF('Matriz Riesgo'!E93=\"\",\"\",'Matriz Riesgo'!E93)","v":""},"","","",{"$f":"IF('Matriz Riesgo'!C93=\"\",\"\",'Matriz Riesgo'!C93)","v":""}]
[null,92,{"$f":"IF('Matriz Riesgo'!D94=\"\",\"\",'Matriz Riesgo'!D94)","v":""},{"$f":"IF('Matriz Riesgo'!E94=\"\",\"\",'Matriz Riesgo'!E94)","v":""},"","","",{"$f":"IF('Matriz Riesgo'!C94=\"\",\"\",'Matriz Riesgo'!C94)","v":""}]
[null,93,{"$f":"IF('Matriz Riesgo'!D95=\"\",\"\",'Matriz Riesgo'!D95)","v":""},{"$f":"IF('Matriz Riesgo'!E95=\"\",\"\",'Matriz Riesgo'!E95)","v":""},"","","",{"$f":"IF('Matriz Riesgo'!C95=\"\",\"\",'Matriz Riesgo'!C95)","v":""}]
[null,94,{"$f":"IF('Matriz Riesgo'!D96=\"\",\"\",'Matriz Riesgo'!D96)","v":""},{"$f":"IF('Matriz Riesgo'!E96=\"\",\"\",'Matriz Riesgo'!E96)","v":""},"","","",{"$f":"IF('Matriz Riesgo'!C96=\"\",\"\",'Matriz Riesgo'!C96)","v":""}]
[null,95,{"$f":"IF('Matriz Riesgo'!D97=\"\",\"\",'Matriz Riesgo'!D97)","v":""},{"$f":"IF('Matriz Riesgo'!E97=\"\",\"\",'Matriz Riesgo'!E97)","v":""},"","","",{"$f":"IF('Matriz Riesgo'!C97=\"\",\"\",'Matriz Riesgo'!C97)","v":""}]
[null,96,{"$f":"IF('Matriz Riesgo'!D98=\"\",\"\",'Matriz Riesgo'!D98)","v":""},{"$f":"IF('Matriz Riesgo'!E98=\"\",\"\",'Matriz Riesgo'!E98)","v":""},"","","",{"$f":"IF('Matriz Riesgo'!C98=\"\",\"\",'Matriz Riesgo'!C98)","v":""}]
[null,97,{"$f":"IF('Matriz Riesgo'!D99=\"\",\"\",'Matriz Riesgo'!D99)","v":""},{"$f":"IF('Matriz Riesgo'!E99=\"\",\"\",'Matriz Riesgo'!E99)","v":""},"","","",{"$f":"IF('Matriz Riesgo'!C99=\"\",\"\",'Matriz Riesgo'!C99)","v":""}]
[null,98,{"$f":"IF('Matriz Riesgo'!D100=\"\",\"\",'Matriz Riesgo'!D100)","v":""},{"$f":"IF('Matriz Riesgo'!E100=\"\",\"\",'Matriz Riesgo'!E100)","v":""},"","",{"$f":"IF(E100=1,VLOOKUP(F100,$K$3:$L$7,2,),IF(E100=2,VLOOKUP(F100,$K$8:$L$12,2,FALSE),IF(E100=3,VLOOKUP(F100,$K$13:$L$17,2,FALSE),IF(E100=4,VLOOKUP(F100,$K$18:$L$22,2,FALSE),IF(E100=5,VLOOKUP(F100,$K$23:$L$27,2,FALSE),\"\")))))","v":""},{"$f":"IF('Matriz Riesgo'!C100=\"\",\"\",'Matriz Riesgo'!C100)","v":""}]
[null,99,{"$f":"IF('Matriz Riesgo'!D101=\"\",\"\",'Matriz Riesgo'!D101)","v":""},{"$f":"IF('Matriz Riesgo'!E101=\"\",\"\",'Matriz Riesgo'!E101)","v":""},"","","",{"$f":"IF('Matriz Riesgo'!C101=\"\",\"\",'Matriz Riesgo'!C101)","v":""}]
[null,100,{"$f":"IF('Matriz Riesgo'!D102=\"\",\"\",'Matriz Riesgo'!D102)","v":""},{"$f":"IF('Matriz Riesgo'!E102=\"\",\"\",'Matriz Riesgo'!E102)","v":""},"","","",{"$f":"IF('Matriz Riesgo'!C102=\"\",\"\",'Matriz Riesgo'!C102)","v":""}]
[null,101,{"$f":"IF('Matriz Riesgo'!D103=\"\",\"\",'Matriz Riesgo'!D103)","v":""},{"$f":"IF('Matriz Riesgo'!E103=\"\",\"\",'Matriz Riesgo'!E103)","v":""},"","","",{"$f":"IF('Matriz Riesgo'!C103=\"\",\"\",'Matriz Riesgo'!C103)","v":""}]
[null,102,{"$f":"IF('Matriz Riesgo'!D104=\"\",\"\",'Matriz Riesgo'!D104)","v":""},{"$f":"IF('Matriz Riesgo'!E104=\"\",\"\",'Matriz Riesgo'!E104)","v":""},"","","",{"$f":"IF('Matriz Riesgo'!C104=\"\",\"\",'Matriz Riesgo'!C104)","v":""}]
[null,103,{"$f":"IF('Matriz Riesgo'!D105=\"\",\"\",'Matriz Riesgo'!D105)","v":""},{"$f":"IF('Matriz Riesgo'!E105=\"\",\"\",'Matriz Riesgo'!E105)","v":""},"","","",{"$f":"IF('Matriz Riesgo'!C105=\"\",\"\",'Matriz Riesgo'!C105)","v":""}]
[null,104,{"$f":"IF('Matriz Riesgo'!D106=\"\",\"\",'Matriz Riesgo'!D106)","v":""},{"$f":"IF('Matriz Riesgo'!E106=\"\",\"\",'Matriz Riesgo'!E106)","v":""},"","","",{"$f":"IF('Matriz Riesgo'!C106=\"\",\"\",'Matriz Riesgo'!C106)","v":""}]
[null,105,{"$f":"IF('Matriz Riesgo'!D107=\"\",\"\",'Matriz Riesgo'!D107)","v":""},{"$f":"IF('Matriz Riesgo'!E107=\"\",\"\",'Matriz Riesgo'!E107)","v":""},"","","",{"$f":"IF('Matriz Riesgo'!C107=\"\",\"\",'Matriz Riesgo'!C107)","v":""}]
[null,106,{"$f":"IF('Matriz Riesgo'!D108=\"\",\"\",'Matriz Riesgo'!D108)","v":""},{"$f":"IF('Matriz Riesgo'!E108=\"\",\"\",'Matriz Riesgo'!E108)","v":""},"","","",{"$f":"IF('Matriz Riesgo'!C108=\"\",\"\",'Matriz Riesgo'!C108)","v":""}]
[null,107,{"$f":"IF('Matriz Riesgo'!D109=\"\",\"\",'Matriz Riesgo'!D109)","v":""},{"$f":"IF('Matriz Riesgo'!E109=\"\",\"\",'Matriz Riesgo'!E109)","v":""},"","",{"$f":"IF(E109=1,VLOOKUP(F109,$K$3:$L$7,2,),IF(E109=2,VLOOKUP(F109,$K$8:$L$12,2,FALSE),IF(E109=3,VLOOKUP(F109,$K$13:$L$17,2,FALSE),IF(E109=4,VLOOKUP(F109,$K$18:$L$22,2,FALSE),IF(E109=5,VLOOKUP(F109,$K$23:$L$27,2,FALSE),\"\")))))","v":""},{"$f":"IF('Matriz Riesgo'!C109=\"\",\"\",'Matriz Riesgo'!C109)","v":""}]
[null,108,{"$f":"IF('Matriz Riesgo'!D110=\"\",\"\",'Matriz Riesgo'!D110)","v":""},{"$f":"IF('Matriz Riesgo'!E110=\"\",\"\",'Matriz Riesgo'!E110)","v":""},"","","",{"$f":"IF('Matriz Riesgo'!C110=\"\",\"\",'Matriz Riesgo'!C110)","v":""}]
[null,109,{"$f":"IF('Matriz Riesgo'!D111=\"\",\"\",'Matriz Riesgo'!D111)","v":""},{"$f":"IF('Matriz Riesgo'!E111=\"\",\"\",'Matriz Riesgo'!E111)","v":""},"","","",{"$f":"IF('Matriz Riesgo'!C111=\"\",\"\",'Matriz Riesgo'!C111)","v":""}]
[null,110,{"$f":"IF('Matriz Riesgo'!D112=\"\",\"\",'Matriz Riesgo'!D112)","v":""},{"$f":"IF('Matriz Riesgo'!E112=\"\",\"\",'Matriz Riesgo'!E112)","v":""},"","","",{"$f":"IF('Matriz Riesgo'!C112=\"\",\"\",'Matriz Riesgo'!C112)","v":""}]
[null,111,{"$f":"IF('Matriz Riesgo'!D113=\"\",\"\",'Matriz Riesgo'!D113)","v":""},{"$f":"IF('Matriz Riesgo'!E113=\"\",\"\",'Matriz Riesgo'!E113)","v":""},"","","",{"$f":"IF('Matriz Riesgo'!C113=\"\",\"\",'Matriz Riesgo'!C113)","v":""}]
[null,112,{"$f":"IF('Matriz Riesgo'!D114=\"\",\"\",'Matriz Riesgo'!D114)","v":""},{"$f":"IF('Matriz Riesgo'!E114=\"\",\"\",'Matriz Riesgo'!E114)","v":""},"","","",{"$f":"IF('Matriz Riesgo'!C114=\"\",\"\",'Matriz Riesgo'!C114)","v":""}]
[null,113,{"$f":"IF('Matriz Riesgo'!D115=\"\",\"\",'Matriz Riesgo'!D115)","v":""},{"$f":"IF('Matriz Riesgo'!E115=\"\",\"\",'Matriz Riesgo'!E115)","v":""},"","","",{"$f":"IF('Matriz Riesgo'!C115=\"\",\"\",'Matriz Riesgo'!C115)","v":""}]
[null,114,{"$f":"IF('Matriz Riesgo'!D116=\"\",\"\",'Matriz Riesgo'!D116)","v":""},{"$f":"IF('Matriz Riesgo'!E116=\"\",\"\",'Matriz Riesgo'!E116)","v":""},"","","",{"$f":"IF('Matriz Riesgo'!C116=\"\",\"\",'Matriz Riesgo'!C116)","v":""}]
[null,115,{"$f":"IF('Matriz Riesgo'!D117=\"\",\"\",'Matriz Riesgo'!D117)","v":""},{"$f":"IF('Matriz Riesgo'!E117=\"\",\"\",'Matriz Riesgo'!E117)","v":""},"","","",{"$f":"IF('Matriz Riesgo'!C117=\"\",\"\",'Matriz Riesgo'!C117)","v":""}]
[null,116,{"$f":"IF('Matriz Riesgo'!D118=\"\",\"\",'Matriz Riesgo'!D118)","v":""},{"$f":"IF('Matriz Riesgo'!E118=\"\",\"\",'Matriz Riesgo'!E118)","v":""},"","","",{"$f":"IF('Matriz Riesgo'!C118=\"\",\"\",'Matriz Riesgo'!C118)","v":""}]
[null,117,{"$f":"IF('Matriz Riesgo'!D119=\"\",\"\",'Matriz Riesgo'!D119)","v":""},{"$f":"IF('Matriz Riesgo'!E119=\"\",\"\",'Matriz Riesgo'!E119)","v":""},"","","",{"$f":"IF('Matriz Riesgo'!C119=\"\",\"\",'Matriz Riesgo'!C119)","v":""}]
[null,118,{"$f":"IF('Matriz Riesgo'!D120=\"\",\"\",'Matriz Riesgo'!D120)","v":""},{"$f":"IF('Matriz Riesgo'!E120=\"\",\"\",'Matriz Riesgo'!E120)","v":""},"","","",{"$f":"IF('Matriz Riesgo'!C120=\"\",\"\",'Matriz Riesgo'!C120)","v":""}]
[null,119,{"$f":"IF('Matriz Riesgo'!D121=\"\",\"\",'Matriz Riesgo'!D121)","v":""},{"$f":"IF('Matriz Riesgo'!E121=\"\",\"\",'Matriz Riesgo'!E121)","v":""},"","","",{"$f":"IF('Matriz Riesgo'!C121=\"\",\"\",'Matriz Riesgo'!C121)","v":""}]
[null,120,{"$f":"IF('Matriz Riesgo'!D122=\"\",\"\",'Matriz Riesgo'!D122)","v":""},{"$f":"IF('Matriz Riesgo'!E122=\"\",\"\",'Matriz Riesgo'!E122)","v":""},"","","",{"$f":"IF('Matriz Riesgo'!C122=\"\",\"\",'Matriz Riesgo'!C122)","v":""}]